BEGIN:VCALENDAR
VERSION:2.0
PRODID:-//Kerstmarkten.nu//NL
CALSCALE:GREGORIAN
BEGIN:VEVENT
UID:kerstmarkten-nu-berchtesgadener-advent-20261120@kerstmarkten.nu
DTSTAMP:20260420T130751Z
DTSTART;VALUE=DATE:20261120
DTEND;VALUE=DATE:20270104
SUMMARY:Berchtesgadener Advent
DESCRIPTION:De Berchtesgadener Advent biedt met circa 50 kraampjes een authentieke kerstsfeer in het historische centrum. Het koninklijke slot en de machtige Watzmann vormen een uniek decor. Traditioneel handwerk\, regionale producten en Alpenlandse muziek maken deze markt bijzonder.  https://kerstmarkten.nu/kerstmarkten/berchtesgadener-advent
LOCATION:Maximilianstraße 2 83471 Berchtesgaden\, Duitsland
URL:https://kerstmarkten.nu/kerstmarkten/berchtesgadener-advent
END:VEVENT
END:VCALENDAR
